BEGIN:VCALENDAR
VERSION:2.0
PRODID:-//ΕΛΛΗΝΙΚΟ ΙΝΣΤΙΤΟΥΤΟ COACHING - ECPv6.15.20//NONSGML v1.0//EN
CALSCALE:GREGORIAN
METHOD:PUBLISH
X-WR-CALNAME:ΕΛΛΗΝΙΚΟ ΙΝΣΤΙΤΟΥΤΟ COACHING
X-ORIGINAL-URL:https://www.hellenicinstituteofcoaching.com
X-WR-CALDESC:Events for ΕΛΛΗΝΙΚΟ ΙΝΣΤΙΤΟΥΤΟ COACHING
REFRESH-INTERVAL;VALUE=DURATION:PT1H
X-Robots-Tag:noindex
X-PUBLISHED-TTL:PT1H
BEGIN:VTIMEZONE
TZID:Europe/Athens
BEGIN:DAYLIGHT
TZOFFSETFROM:+0200
TZOFFSETTO:+0300
TZNAME:EEST
DTSTART:20170326T010000
END:DAYLIGHT
BEGIN:STANDARD
TZOFFSETFROM:+0300
TZOFFSETTO:+0200
TZNAME:EET
DTSTART:20171029T010000
END:STANDARD
BEGIN:DAYLIGHT
TZOFFSETFROM:+0200
TZOFFSETTO:+0300
TZNAME:EEST
DTSTART:20180325T010000
END:DAYLIGHT
BEGIN:STANDARD
TZOFFSETFROM:+0300
TZOFFSETTO:+0200
TZNAME:EET
DTSTART:20181028T010000
END:STANDARD
BEGIN:DAYLIGHT
TZOFFSETFROM:+0200
TZOFFSETTO:+0300
TZNAME:EEST
DTSTART:20190331T010000
END:DAYLIGHT
BEGIN:STANDARD
TZOFFSETFROM:+0300
TZOFFSETTO:+0200
TZNAME:EET
DTSTART:20191027T010000
END:STANDARD
END:VTIMEZONE
BEGIN:VEVENT
DTSTART;TZID=Europe/Athens:20181208T100000
DTEND;TZID=Europe/Athens:20181208T120000
DTSTAMP:20260422T033508
CREATED:20181111T214817Z
LAST-MODIFIED:20181111T222530Z
UID:1731-1544263200-1544270400@www.hellenicinstituteofcoaching.com
SUMMARY:
DESCRIPTION:Σε μια χώρα με συνεχή χρόνια κρίσης\, με δηλώσεις αξιωματούχων αλλά και καθημερινών ανθρώπων αλλά και μια πραγματικότητα απώλειας\, κλοπής αλλά και καταστροφής των ονείρων\, το webinar αυτό\, απλό\, λογικό\, επαγγελματικό\, πρακτικό και άμεσα εφαρμόσιμο έρχεται να λειτουργήσει σαν ένα νέο εργαλείο ενεργοποίησης των ανθρώπων που έχουν ή που θέλουν να θυμηθούν και να υλοποιήσουν το όνειρο ή τα όνειρά τους\, σε όποιον τομέα της ζωής τους.   \n  \nΕισαγωγή \nΈνα webinar διάρκειας 2 ωρών  το οποίο επικεντρώνεται στο τομέα όνειρο και τον ρόλο του στην ζωή μας. Οι συμμετέχοντες εκπαιδεύονται στο να ανασύρουν (από το μυαλό τους) ή να δημιουργήσουν και να μετατρέψουν το όνειρό τους σε στόχο προς υλοποίηση με πρακτικά βήματα και επαγγελματική οργάνωση! \n  \nΣκοπός  \nΣτο webinar γίνεται η εκπαίδευση για τον εντοπισμό από το παρελθόν ή στην δημιουργία στο παρόν ονείρων τα οποία δεν αποτελούν άπιαστη φαντασία αλλά μπορούν να μετατραπούν σε στόχους\, οι οποίοι υπό κατάλληλες συνθήκες (σε σχέση με τον εαυτό μας) και δομή βημάτων και προγράμματος εργασίας να οδηγηθούν στην υλοποίησή τους σε συγκεκριμένο χρόνο και όχι αόριστα. \n  \nΟι συμμετέχοντες μαθαίνουν να  : \n\nΚατανοούν το περιβάλλον και γιατί απορρίπτει ή εμποδίζει τα όνειρα\nΑντιλαμβάνονται τη σπουδαιότητα της αλλαγής οπτικής γωνίας\nΣυνειδητοποιούν το ρόλο της προσωπικής μας ευθύνης απέναντι στο όνειρό μας\nΚαθορίζουν το όνειρο σε στόχο και τα βήματα που θα χρειαστεί να ακολουθήσουν για την υλοποίησή του.\n\nΗ μέθοδος :  \nΤο webinar είναι εντατικό και πρακτικό. Υπάρχουν απλά\, λογικά και άμεσα αποτελεσματικά εργαλεία από την ελληνική και διεθνή αγορά τα οποία εφαρμόζονται σε όλους τους συμμετέχοντες για την εφαρμογή όλων όσων διδάσκονται. \n  \nΣε ποιους απευθύνεται :  \nΤο webinar απευθύνεται σε κάθε άνδρα ή γυναίκα\, εργαζόμενο ή άνεργο\, πτυχιούχο ή φοιτητή\, επιχειρηματία\, υπάλληλο ή και συνταξιούχο ο/η οποίος-α επιθυμεί να ενεργοποιήσει ή να ανασύρει το όνειρά του και να προχωρήσει υπεύθυνα\, δυναμικά και με πρόγραμμα στην υλοποίησή τους. Το webinar στηρίζεται σε πρακτικά δομημένα και λογικά βήματα και όχι σε αφηρημένες\, αόριστες και αδιευκρίνιστες ενέργειες. \n  \nΤα οφέλη όσων το παρακολουθήσουν :  \n\nαπλό\, πρακτικό\, κατανοητό και άμεσα εφαρμόσιμο σεμινάριο για κάθε άνθρωπο\, κάθε ηλικίας\, εργασίας\, εκπαίδευσης και παρελθόντος\nβαθιά κατανόηση του πλαισίου των ονείρων\, της αντιμετώπισής τους αλλά και του δυναμικού τους στην ζωή του κάθε ανθρώπου.\nένα πλάνο έργου (action plan) άμεσης εφαρμογής\nένα κατανοητό εγχειρίδιο για μελλοντική αναφορά\n\n  \nΚόστος Συμμετοχής: \n95 ευρώ  75 ευρώ \nEarly bird  (3 Δεκεμβρίου 2018):  60 ευρώ \nΠροσφορές για ομάδες : ύστερα από προσωπική επικοινωνία \n  \nΔιαδικασία Συμμετοχής: \nΠαρακαλούμε όπως ενημερωθείτε για τη διαδικασία συμμετοχής\, πατώντας στο παρακάτω link: \nΔιαδικασία και Κόστος Συμμετοχής \n  \nPromo Webinar: \n  \n\n  \n  \n  \n 
URL:https://www.hellenicinstituteofcoaching.com/event/tolmisenaoneireuteis-event-5/
LOCATION:ONLINE WEBINAR SERIES
ATTACH;FMTTYPE=image/jpeg:https://www.hellenicinstituteofcoaching.com/wp-content/uploads/2018/11/dreams.jpg
END:VEVENT
BEGIN:VEVENT
DTSTART;TZID=Europe/Athens:20181125T100000
DTEND;TZID=Europe/Athens:20181125T113000
DTSTAMP:20260422T033508
CREATED:20181108T133712Z
LAST-MODIFIED:20181111T214549Z
UID:1704-1543140000-1543145400@www.hellenicinstituteofcoaching.com
SUMMARY:
DESCRIPTION:Η σημερινή κατάσταση  \nΈχει καταγραφεί\, ότι σημαντικός αριθμός αποφοίτων σχολών Coaching μετά την ολοκλήρωση των σπουδών τους\, βρίσκονται αντιμέτωποι με ένα πολύ σοβαρό ερώτημα:  πώς μπορούν να δραστηριοποιηθούν επαγγελματικά στον ιδιαίτερα δυναμικά εξελισσόμενο χώρο του coaching ως επαγγελματίες Coaches; \nH βιομηχανία υπηρεσιών του coaching αναπτύσσεται ραγδαία σε εθνικό και διεθνές επίπεδο. \nΟι νέοι Coaches\, όσοι έχουν πιστοποιημένη εκπαίδευση\, έχουν ένα εξαιρετικά ευρύ φάσμα για να δραστηριοποιηθούν στο χώρο του coaching με διαφορετικές μορφές\, ειδικεύσεις και σχήματα. Ωστόσο\, πολλές φορές η ατολμία ή και η άγνοια τους εμποδίζει να κινηθούν επαγγελματικά με αποτέλεσμα να βιώνουν ένα επαγγελματικό αδιέξοδο ενώ όλοι οι επαγγελματικοί δρόμοι είναι ανοικτοί. \n  \nΣκοπός  \nΜία διάλεξη\, η οποία επικεντρώνεται στα πρώτα και κρίσιμα επαγγελματικά βήματα που θα πρέπει να ακολουθήσει ο πιστοποιημένα εκπαιδευθείς Coach για να μπορέσει να ενεργοποιηθεί επαγγελματικά στην αγορά που θα επιλέξει\, ξεκινώντας μια εξαιρετικά ωφέλιμη και κερδοφόρα Coaching εργασία. \n  \nΟι συμμετέχοντες μαθαίνουν να  :  \n\nΑναγνωρίζουν το αποτέλεσμα της εκπαίδευσης τους αλλά και της προσωπικής τους εξέλιξης.\nΔιερευνούν – Εντοπίζουν – Καταγράφουν και Επιλέγουν τις coaching επαγγελματικές επιλογές τους.\nΔημιουργήσουν το coaching προϊόν τους αλλά και το coaching προφίλ τους.\nΕπικοινωνούν και να δικτυώνονται επαγγελματικά.\n\n  \nΗ μέθοδος :  \nΤο webinar είναι εντατικό\, πρακτικό και αποκλειστικά online. Προσφέρονται οι βασικοί άξονες που θα πρέπει να ακολουθήσει ο κάθε εκπαιδευμένος Coach για την επαγγελματική του δραστηριοποίηση. \n  \nΤο πρόγραμμα του webinar: “Μετά τις σπουδές στο Coaching\, τι;” \n\nΗ θέση του Coach μετά τις σπουδές\nΗ Coaching αυτό-αναγνώριση\nΗ καταγραφή των επιλογών μου ως Coach\nΤο Coaching προϊόν μου\nΤο επαγγελματικό Coaching προφίλ μου\nΒασικές ενέργειες επικοινωνίας για την Coaching εργασία μου\nΟι απαιτούμενες ενέργειες δικτύωσης  του Coach\nΟλοκλήρωση – ερωτήσεις – κλείσιμο\n\n  \nΤα οφέλη όσων το παρακολουθήσουν :  \n\nπρακτικό\, κατανοητό και άμεσα εφαρμόσιμο webinar για κάθε Coach\, ο οποίος επιθυμεί να δραστηριοποιηθεί επαγγελματικά στο χώρο του Coaching\,\nβαθιά κατανόηση των βημάτων που χρειάζεται να ακολουθήσει ο Coach για την επαγγελματική του δραστηριοποίηση\,\nένας πρακτικός οδηγός βημάτων για την επαγγελματική δραστηριοποίηση του Coach για την αγορά που επιθυμεί να δραστηριοποιηθεί.\n\n  \nΚόστος Συμμετοχής: \nSenior μέλη H.I.C.:  ΔΩΡΕΑΝ \nΥπόλοιπες κατηγορίες μελών H.I.C.:  20 ευρώ \nΜη μέλη του H.I.C.: 80 ευρώ  40 ευρώ \n  \nΔιαδικασία Συμμετοχής: \nSENIOR Μέλη: Αποστολή των στοιχείων σας (Ονοματεπώνυμο και Αρ. Μητρώου) με θέμα “Μετά τις σπουδές στο Coaching\, τι;” στο  grammateiahic@gmail.com ώστε να σας σταλεί το link της συμμετοχής σας. \n  \nΥπόλοιπες κατηγορίες Μελών και Μη Μέλη του H.I.C.\, παρακαλούμε όπως ενημερωθείτε για τη διαδικασία συμμετοχής\, πατώντας στο παρακάτω link: \nΔιαδικασία και Κόστος Συμμετοχής \n  \nPromo Webinar: \n  \n\n  \n  \n 
URL:https://www.hellenicinstituteofcoaching.com/event/metacoachingspoudes-event-4/
LOCATION:ONLINE WEBINAR SERIES
ATTACH;FMTTYPE=image/png:https://www.hellenicinstituteofcoaching.com/wp-content/uploads/2018/11/Web_meta-tis-spoudes-ti.png
ORGANIZER;CN="%CE%95%CE%BB%CE%BB%CE%B7%CE%BD%CE%B9%CE%BA%CF%8C %CE%99%CE%BD%CF%83%CF%84%CE%B9%CF%84%CE%BF%CF%8D%CF%84%CE%BF Coaching %E2%80%93 H.I.C.":MAILTO:grammateiahic@gmail.com
END:VEVENT
BEGIN:VEVENT
DTSTART;TZID=Europe/Athens:20181115T203000
DTEND;TZID=Europe/Athens:20181115T213000
DTSTAMP:20260422T033508
CREATED:20181107T013914Z
LAST-MODIFIED:20181115T151339Z
UID:1685-1542313800-1542317400@www.hellenicinstituteofcoaching.com
SUMMARY:
DESCRIPTION:To Ελληνικό Ινστιτούτο Coaching – H.I.C δημιούργησε και προσφέρει στα μέλη του μια νέα πρωτοποριακή υπηρεσία: \n  \nCoaching – Team Supervision συναντήσεις \n  \nΤο πρόγραμμα ικανοποιεί όλες τις ανάγκες των coaches (έμπειρων και νέων). Πιο συγκεκριμένα: \nΣτα πλαίσια της σύσφιξης των σχέσεων των μελών αλλά και της ανάγκης της υποστήριξης του κάθε μέλους στην coaching πορεία του\, το Ελληνικό Ινστιτούτο Coaching σχεδίασε και προσφέρει τη δυνατότητα για συνεύρεση των μελών μεταξύ τους\, κατάθεση προβληματισμών της εργασίας τους καθώς και την ευκαιρία για ομαδικό  supervision. \nΣτα πλαίσια αυτά\, δίνεται η δυνατότητα σε κάθε μέλος να λειτουργεί και ως Coach – Supervisor για να αποκτήσει επιπλέον coaching ικανότητες\, εκπαιδευτικές ικανότητες\, αλλά και να αρχίσει να κατανοεί το ρόλο του Supervisor  και τη δύναμη της εποπτείας. \n  \nΤο πρόγραμμα Coaching – Team support // Supervision περιλαμβάνει : \n\n10 ώρες σε διάρκεια 10 μηνών\nΣυμμετέχουν μόνο τα μέλη του Ινστιτούτου\nΤα θέματα που θα καλυφθούν είναι :\n\nΟι AC και H.I.C. competencies – Α μέρος\nΟι AC και H.I.C. competencies – Β μέρος\nΠροβληματισμοί για τις δομές των συνεδριών\nΕργαλεία\, τεχνικές\, μεθοδολογία\nΗ σχέση με τον Coachee\nΠροσωπική Coaching προσέγγιση\nΔημιουργία πακέτων coaching\nReflection\nΕνέργειες αυτοβελτίωσης\n\n\n\n  \nΑλληλεγγύη\, υποστήριξη & μοίρασμα γνώσεων και εμπειριών. \nΤο πρόγραμμα υλοποιείται σε ομαδικές συνεδρίες. Η ομάδα δημιουργείται και αναπτύσσεται με τις αρχές της αποδοχής\, της υποστήριξης και της αλληλεγγύης. Κάθε μέλος μοιράζεται ανοιχτά τις εμπειρίες\, τις γνώσεις και τα εμπόδια που αντιμετωπίζει στην σταδιοδρομία του σε ένα κλίμα εμπιστοσύνης και ενσυναισθητικής αλληλεπίδρασης. Έτσι\, τα μέλη ενδυναμώνονται και προετοιμάζονται καλύτερα για την επιτέλεση του έργου τους. \n  \nΣε ποιούς απευθύνεται: \nΤο πρόγραμμα απευθύνεται αποκλειστικά στα μέλη του Ελληνικού Ινστιτούτου Coaching – H.I.C  που στοχεύουν να εργαστούν επαγγελματικά ως Coaches ή εργάζονται ήδη ως Coaches όλων των ειδικοτήτων\, ειδικεύσεων και στόχων\, τόσο μέσα από εταιρίες (internal coaches)\, όσο και ως μέλη εταιριών και/ή ως ελεύθεροι επαγγελματίες. \n  \nΚόστος Συμμετοχής: \nΤο κόστος του προγράμματος ανέρχεται στο ποσό των 1.000 ευρώ\, αλλά στα μέλη (κατηγορία Senior members) παρέχεται ΔΩΡΕΑΝ. \nΓια τις υπόλοιπες κατηγορίες μελών ανέρχεται στο ποσό των 400 ευρώ (4 δόσεις των 100 ευρώ). \n  \nΗ πρώτη συνάντηση στις 15 Νοεμβρίου 2018\, παρέχεται για όλες τις κατηγορίες μελών του Ινστιτούτου ΔΩΡΕΑΝ. \n  \nΣυντονιστές\, εκπαιδευτές\, υποστηρικτές: \nΔρ. Γ. Καραθάνος \nΧαρά Μανεσιώτου \nΙωάννα-Μαρία Βουτιέρου \n  \nΔΙΑΔΙΚΑΣΙΑ ΣΥΜΜΕΤΟΧΗΣ: \nΑποστολή των στοιχείων σας (Ονοματεπώνυμο\, Κατηγορία μέλους\, Αρ. Μητρώου) με θέμα “Coaching – Team Supervision συναντήσεις” στο  grammateiahic@gmail.com ώστε να σας σταλεί το link της συμμετοχής σας. \n 
URL:https://www.hellenicinstituteofcoaching.com/event/teamsupervisionseris-event/
LOCATION:ONLINE COACHING TEAM SUPERVISION SERIES
ATTACH;FMTTYPE=image/png:https://www.hellenicinstituteofcoaching.com/wp-content/uploads/2018/11/Coaching-Team-Supervision.png
ORGANIZER;CN="%CE%95%CE%BB%CE%BB%CE%B7%CE%BD%CE%B9%CE%BA%CF%8C %CE%99%CE%BD%CF%83%CF%84%CE%B9%CF%84%CE%BF%CF%8D%CF%84%CE%BF Coaching %E2%80%93 H.I.C.":MAILTO:grammateiahic@gmail.com
END:VEVENT
BEGIN:VEVENT
DTSTART;TZID=Europe/Athens:20181113T200000
DTEND;TZID=Europe/Athens:20181113T210000
DTSTAMP:20260422T033508
CREATED:20181102T110657Z
LAST-MODIFIED:20181109T130152Z
UID:1624-1542139200-1542142800@www.hellenicinstituteofcoaching.com
SUMMARY:“Τι κάνει το Supervision αναντικατάστατο; ”
DESCRIPTION:Ο Association for Coaching® (AC)\, (Λονδίνο) σε συνεργασία με το Ελληνικό Ινστιτούτο Coaching – H.I.C (Αθήνα) παρουσιάζουν\, για πρώτη φορά στην Ελλάδα και στην Κύπρο\, – στα ελληνικά – το διεθνές πρωτοποριακό webinar με τίτλο : \n  \n“What’s so super about Supervision” – της Michelle Lucas \nΑπόδοση στα ελληνικά \n“Τι κάνει το Supervision αναντικατάστατο; ” – από τον Δρ. Γ. Καραθάνο \n  \nΕισαγωγή  \nΈνα webinar διάρκειας 1 ώρας\, το οποίο επικεντρώνεται στην περιγραφή\, αλλά και στην ουσία του τι είναι το Supervision\, καθώς και στα οφέλη τα οποία προκύπτουν για τον κάθε επαγγελματία Coach. \n  \nΣκοπός  \nΣτο webinar παρουσιάζονται οι σημαντικοί άξονες του Coaching Supervision\, η οριοθέτησή του\, η προσφορά του στον επαγγελματία Coach\, ο οποίος επιθυμεί να κατακτήσει την θέση της αξιοπιστίας στην αγορά\, οι μύθοι και οι αλήθειες που το συνοδεύουν\, καθώς και η πρακτική εφαρμογή του. \n  \nΟι υποψήφιοι μαθαίνουν να :  \n\nκατανοούν την έννοια του Coaching Supervision ή στα ελληνικά\, εποπτεία στο Coaching\,\nαναγνωρίζουν τι μπορεί να προσφέρει στον επαγγελματία Coach\, ακόμα και η μία ώρα επαγγελματικής και πιστοποιημένης εποπτείας\,\nεξελίσσονται επαγγελματικά και συνειδητά μέσα από την εποπτεία\,\nεφαρμόζουν το Supervision στην πράξη\, αντιπαραβάλλοντας μύθους και αλήθειες.\n\n  \nΣε ποιους απευθύνεται :  \nΤο webinar απευθύνεται σε κάθε Coach εκπαιδευμένο ή σε εκπαίδευση\, ο οποίος επιθυμεί να ξεχωρίσει και να αναπτυχθεί στον χώρο του Coaching\, εθνικά και διεθνώς\, κάνοντας την ουσιαστική διαφορά στο επάγγελμα δημιουργώντας και προσφέροντας αξιόπιστο coaching και ταυτόχρονα διαφοροποιούμενος από όσους δηλώνουν αυθαίρετα και ανεξέλεγκτα coaches\, λόγω ανυπαρξίας νομικού πλαισίου προς το παρόν. \n  \nΤα οφέλη από την παρακολούθησή του webinar  :  \n\nΗ βαθιά κατανόηση του ρόλου της εποπτείας (Supervision) στο Coaching.\nΗ πραγματική εξελικτική διαδικασία\, στο Coaching\, μέσω της επαγγελματικής εποπτείας.\nΗ καθαρή αντίληψη για την εφαρμογή της Εποπτείας στην Coaching εργασία.\n\n  \nΗ μέθοδος :  \nΤο webinar είναι εντατικό και πρακτικό. Υπάρχουν απλά\, λογικά και άμεσα αποτελεσματικά εργαλεία από την ελληνική και διεθνή αγορά\, τα οποία εφαρμόζονται σε όλους τους συμμετέχοντες για την εφαρμογή όλων όσων διδάσκονται. \n  \nΔΙΑΔΙΚΑΣΙΑ ΣΥΜΜΕΤΟΧΗΣ: \nΣυμπληρώστε την φόρμα πατώντας στο παρακάτω link: \nhttps://zoom.us/webinar/register/WN_eGMU6fImRh-BCcNr72jTUg \n  \nΣΗΜΕΙΩΣΗ: ΘΑ ΤΗΡΗΘΕΙ ΣΕΙΡΑ ΠΡΟΤΕΡΑΙΟΤΗΤΑΣ  \n  \nPromo Webinar: \n 
URL:https://www.hellenicinstituteofcoaching.com/event/supervision-event/
LOCATION:ONLINE WEBINAR SERIES
ATTACH;FMTTYPE=image/jpeg:https://www.hellenicinstituteofcoaching.com/wp-content/uploads/2018/11/AC_Whatssosuperaboutsupervision_graphicv2.jpg
ORGANIZER;CN="%CE%95%CE%BB%CE%BB%CE%B7%CE%BD%CE%B9%CE%BA%CF%8C %CE%99%CE%BD%CF%83%CF%84%CE%B9%CF%84%CE%BF%CF%8D%CF%84%CE%BF Coaching %E2%80%93 H.I.C.":MAILTO:grammateiahic@gmail.com
END:VEVENT
END:VCALENDAR