BEGIN:VCALENDAR
VERSION:2.0
PRODID:-//ΕΛΛΗΝΙΚΟ ΙΝΣΤΙΤΟΥΤΟ COACHING - ECPv6.15.20//NONSGML v1.0//EN
CALSCALE:GREGORIAN
METHOD:PUBLISH
X-ORIGINAL-URL:https://www.hellenicinstituteofcoaching.com
X-WR-CALDESC:Events for ΕΛΛΗΝΙΚΟ ΙΝΣΤΙΤΟΥΤΟ COACHING
REFRESH-INTERVAL;VALUE=DURATION:PT1H
X-Robots-Tag:noindex
X-PUBLISHED-TTL:PT1H
BEGIN:VTIMEZONE
TZID:Europe/Athens
BEGIN:DAYLIGHT
TZOFFSETFROM:+0200
TZOFFSETTO:+0300
TZNAME:EEST
DTSTART:20250330T010000
END:DAYLIGHT
BEGIN:STANDARD
TZOFFSETFROM:+0300
TZOFFSETTO:+0200
TZNAME:EET
DTSTART:20251026T010000
END:STANDARD
BEGIN:DAYLIGHT
TZOFFSETFROM:+0200
TZOFFSETTO:+0300
TZNAME:EEST
DTSTART:20260329T010000
END:DAYLIGHT
BEGIN:STANDARD
TZOFFSETFROM:+0300
TZOFFSETTO:+0200
TZNAME:EET
DTSTART:20261025T010000
END:STANDARD
BEGIN:DAYLIGHT
TZOFFSETFROM:+0200
TZOFFSETTO:+0300
TZNAME:EEST
DTSTART:20270328T010000
END:DAYLIGHT
BEGIN:STANDARD
TZOFFSETFROM:+0300
TZOFFSETTO:+0200
TZNAME:EET
DTSTART:20271031T010000
END:STANDARD
END:VTIMEZONE
BEGIN:VEVENT
DTSTART;TZID=Europe/Athens:20260422T190000
DTEND;TZID=Europe/Athens:20260422T210000
DTSTAMP:20260422T043631
CREATED:20260330T154210Z
LAST-MODIFIED:20260331T084812Z
UID:3856-1776884400-1776891600@www.hellenicinstituteofcoaching.com
SUMMARY:AI & Coaching
DESCRIPTION:Το Hellenic Institute of Coaching οργανώνει το webinar \nAI & Coaching \n Δρ. Περικλής Παπαγεωργίου \nSenior Professional Μember του Ινστιτούτου – Business Consulting\, AI Expert & Executive Coaching \nAI & Coaching \nΗ Τεχνητή Νοημοσύνη ως εργαλείο σκέψης\, ευθύνης και επαγγελματικής ωριμότητας \n\n\n\n\n\n\n\n\n\n\n\nΠεριγραφή Σεμιναρίου\n\n\n\n\n\n\n\n\n\n\n\n\n\n\n\n\n\n\n\n\n\n\nΗ Τεχνητή Νοημοσύνη εισέρχεται δυναμικά στην επαγγελματική και προσωπική μας ζωή\, δημιουργώντας νέες δυνατότητες αλλά και νέα ερωτήματα. Για τον σύγχρονο coach και executive\, η πρόκληση δεν είναι απλώς να τη χρησιμοποιήσει\, αλλά να την κατανοήσει. \nΤο σεμινάριο «AI & Coaching» δεν αποτελεί τεχνική εκπαίδευση εργαλείων. Αποτελεί ένα ολοκληρωμένο πλαίσιο κατανόησης της Τεχνητής Νοημοσύνης ως υποστηρικτικού μηχανισμού σκέψης\, με σαφή όρια\, ρόλους και ηθικές προεκτάσεις. \nΜέσα από μια δομημένη προσέγγιση\, οι συμμετέχοντες θα εξερευνήσουν τι πραγματικά είναι η ΤΝ\, πώς λειτουργεί και πώς μπορεί να αξιοποιηθεί χωρίς να αλλοιώνει τη φύση του coaching ή να υποκαθιστά την ανθρώπινη κρίση. \nΤι θα κατανοήσετε \n• Τι είναι και τι δεν είναι η Τεχνητή Νοημοσύνη\n• Πώς λειτουργεί και γιατί μπορεί να είναι ταυτόχρονα χρήσιμη και παραπλανητική\n• Ποιος είναι ο πραγματικός ρόλος της στο coaching και στη διοίκηση\n• Πώς να τη χρησιμοποιείτε ως εργαλείο υποστήριξης σκέψης και όχι ως πηγή απαντήσεων\n• Πώς να διαμορφώνετε σωστά prompts που σέβονται τον ρόλο του coach\n• Πού βρίσκονται τα ηθικά όρια στη χρήση της \nΤι θα σας προσφέρει \nΤο σεμινάριο αυτό στοχεύει στο να σας κάνει πιο αποδοτικούς\, όχι μόνο «γρήγορους» ή πιο «τεχνολογικούς». \nΣτοχεύει στο να σας κάνει:\n• πιο συνειδητούς στον τρόπο που σκέφτεστε\n• πιο καθαρούς στον επαγγελματικό σας ρόλο\n• πιο υπεύθυνους στη χρήση της τεχνολογίας\n• πιο ουσιαστικούς στη σχέση με τον πελάτη \nΗ Τεχνητή Νοημοσύνη μπορεί να ενισχύσει την επαγγελματική πρακτική\, μόνο όταν ενταχθεί σε ένα πλαίσιο κατανόησης\, ορίων και ευθύνης. \nΣε ποιους απευθύνεται \n• Επαγγελματίες coaches\n• Executives και στελέχη επιχειρήσεων\n• Συμβούλους και επαγγελματίες ανάπτυξης ανθρώπινου δυναμικού\n• Όσους επιθυμούν να χρησιμοποιήσουν την ΤΝ με συνειδητό και υπεύθυνο τρόπο \nΚεντρική Φιλοσοφία \n\n\n\n\n\n\n\n\n\n\n\n\n\n\n\n\n\n\n\n\n\n\nΗ Τεχνητή Νοημοσύνη δεν αντικαθιστά τον άνθρωπο.\nΔεν σκέφτεται\, δεν κρίνει και δεν αναλαμβάνει ευθύνη. \n\n\n\n\n\n\n\n\n\n\n\n\n\n\n\n\n\n\n\n\n\n\nΤο coaching παραμένει μια βαθιά ανθρώπινη διαδικασία\, βασισμένη στη σχέση\, την παρουσία και τη συνειδητή ερώτηση. \n\n\n\n\n\n\n\n\n\n\n\nΗ πραγματική αξία δεν βρίσκεται στην τεχνολογία.\nΒρίσκεται στον τρόπο που επιλέγουμε να τη χρησιμοποιήσουμε. \n\n\n\nΤόπος\nOn-line\n\n\nΗμερομηνία\n22 Απριλίου 2026\n\n\nΕκπαιδευτής\nΔρ. Περικλής Παπαγεωργίου\n\n\nΏρα έναρξης –  Ώρα ολοκλήρωσης\n19:00-21:00\n\n\nEmail\n\n\n\nΙΒΑΝ\n\n\n\nΚόστος συμμετοχής\n120 ευρώ – προσφορά 80 ευρώ\n\n\nEarly bird  (15 Απριλίου 2026)\n60 ευρώ\n\n\nΠροσφορά για τα ενεργά μέλη του Ελληνικού Ινστιτούτου Coaching \nΦοιτητές\n50 ευρώ \n40 ευρώ\n\n\nΠροσφορές για ομάδες (3 άτομα και άνω)\nύστερα από προσωπική επικοινωνία\n\n\n\nΠΡΟΣΟΧΗ : τα έξοδα μεταφοράς του ποσού βαρύνουν τον συμμετέχοντα. Σε διαφορετική περίπτωση δεν θα υπάρξει δυνατότητα παρακολούθησης.  \n\nΘα τηρηθεί σειρά προτεραιότητας. \nΗ συμμετοχή επιβεβαιώνεται με την καταβολή των χρημάτων. \n\n\n\n\n\n\n\n\n\n\n\n\nΣημαντικές σημειώσεις : \n\n\n\n\n\n\n\n\n\n\n\n\n\n\n\n\n\n\n\n\n\n\n\nΟι συμμετοχές θα πρέπει να έχουν ολοκληρωθεί μέχρι 17 Απριλίου 2026.\nΗ συμμετοχή θεωρείται έγκυρη εφόσον έχει κατατεθεί το κόστος συμμετοχής και σας έχει αποσταλεί η επιβεβαίωση συμμετοχής σας από την γραμματεία\nΌταν γίνει η κατάθεσή σας\, πρέπει να στείλετε το αποδεικτικό κατάθεσης στην γραμματεία grammateiahic@gmail.com\nΕφόσον ξεπεραστεί ο αριθμός συμμετοχών και έχει κατατεθεί το κόστος συμμετοχής\, αυτό θα επιστραφεί άμεσα.\n\n\n\n\n\n\n\n\n\n\n\n\n\n\n\n\n\n\n\n\n\n\n\n\nΜετά την επιβεβαίωση της συμμετοχής και 1-2 ημέρες πριν το σεμινάριο\, οι συμμετέχοντες θα λάβουν οδηγίες για την σύνδεση τους στην πλατφόρμα που θα πραγματοποιηθεί το σεμινάριο\n\n\n\n\n\n\n\n\n\n\n\n\n\n\n\n\n\n\n\n\n\n\n\n\n\n\n\n\n\n\n\n\n\n\n\n\nΚατάθεση: \n\n\nΤΡΑΠΕΖΑ ALPHA BANK \nΙΒΑΝ : GR 78 0140 2560 2560 0200 2003 354\nΔΙΚΑΙΟΥΧΟΣ: ΕΛΛΗΝΙΚΟ ΙΝΣΤΙΤΟΥΤΟ OF COACHING
URL:https://www.hellenicinstituteofcoaching.com/event/ai-and-coaching/
LOCATION:LIVE WEBINAR SERIES
ATTACH;FMTTYPE=image/png:https://www.hellenicinstituteofcoaching.com/wp-content/uploads/2026/03/Dr.-Περικλής-Παπαγεωργίου-Consulting-•-Mentoring-•-Coaching-•-AI-Expert.png
END:VEVENT
END:VCALENDAR